 
BEGIN:VCALENDAR
VERSION:2.0
PRODID:-//Обухівська міська рада - ECPv5.9.1//NONSGML v1.0//EN
CALSCALE:GREGORIAN
METHOD:PUBLISH
X-WR-CALNAME:Обухівська міська рада
X-ORIGINAL-URL:https://obcity.gov.ua
X-WR-CALDESC:Events for Обухівська міська рада
BEGIN:VTIMEZONE
TZID:Europe/Moscow
BEGIN:STANDARD
TZOFFSETFROM:+0300
TZOFFSETTO:+0300
TZNAME:MSK
DTSTART:20190101T000000
END:STANDARD
END:VTIMEZONE
BEGIN:VEVENT
DTSTART;VALUE=DATE:20190823
DTEND;VALUE=DATE:20190826
DTSTAMP:20260422T014546
CREATED:20190722T054230Z
LAST-MODIFIED:20190722T054230Z
UID:12982-1566518400-1566777599@obcity.gov.ua
SUMMARY:Спортивна програма до Дня незалежності України. Фінал чемпіонату міста з футболу
DESCRIPTION:
URL:https://obcity.gov.ua/event/sportivna-programa-do-dnya-nezalezhnosti-ukraini-final-chempionatu-mista-z-futbolu/
LOCATION:ОМСК ім. В.Мельника
END:VEVENT
END:VCALENDAR