 
BEGIN:VCALENDAR
VERSION:2.0
PRODID:-//Обухівська міська рада - ECPv5.9.1//NONSGML v1.0//EN
CALSCALE:GREGORIAN
METHOD:PUBLISH
X-WR-CALNAME:Обухівська міська рада
X-ORIGINAL-URL:https://obcity.gov.ua
X-WR-CALDESC:Events for Обухівська міська рада
BEGIN:VTIMEZONE
TZID:Europe/Moscow
BEGIN:STANDARD
TZOFFSETFROM:+0300
TZOFFSETTO:+0300
TZNAME:MSK
DTSTART:20190101T000000
END:STANDARD
END:VTIMEZONE
BEGIN:VEVENT
DTSTART;VALUE=DATE:20190427
DTEND;VALUE=DATE:20190429
DTSTAMP:20260421T170147
CREATED:20190326T080229Z
LAST-MODIFIED:20190326T080328Z
UID:10864-1556323200-1556495999@obcity.gov.ua
SUMMARY:Турнір з футболу до Всеукраїнського Дня футболу
DESCRIPTION:
URL:https://obcity.gov.ua/event/turnir-z-futbolu-do-vseukrainskogo-dnya-futbolu/
LOCATION:ОМСК ім. В.Мельника
END:VEVENT
BEGIN:VEVENT
DTSTART;VALUE=DATE:20190628
DTEND;VALUE=DATE:20190629
DTSTAMP:20260421T170147
CREATED:20190527T104721Z
LAST-MODIFIED:20190527T104721Z
UID:11995-1561680000-1561766399@obcity.gov.ua
SUMMARY:День молоді. Молодь фест.
DESCRIPTION:
URL:https://obcity.gov.ua/event/den-molodi-molod-fest/
LOCATION:ОМСК ім. В.Мельника
END:VEVENT
BEGIN:VEVENT
DTSTART;TZID=Europe/Moscow:20190628T100000
DTEND;TZID=Europe/Moscow:20190628T100000
DTSTAMP:20260421T170147
CREATED:20190527T104538Z
LAST-MODIFIED:20190527T104538Z
UID:11990-1561716000-1561716000@obcity.gov.ua
SUMMARY:Відкритий аматорський кубок міста Обухів з великого тенісу
DESCRIPTION:
URL:https://obcity.gov.ua/event/vidkritiy-amatorskiy-kubok-mista-obukhiv-z-velikogo-tenisu/
LOCATION:ОМСК ім. В.Мельника
END:VEVENT
BEGIN:VEVENT
DTSTART;TZID=Europe/Moscow:20190628T170000
DTEND;TZID=Europe/Moscow:20190628T170000
DTSTAMP:20260421T170147
CREATED:20190527T104450Z
LAST-MODIFIED:20190527T104450Z
UID:11988-1561741200-1561741200@obcity.gov.ua
SUMMARY:Фінал турніру з футболу до Всеукраїнського дня футболу
DESCRIPTION:
URL:https://obcity.gov.ua/event/final-turniru-z-futbolu-do-vseukrainskogo-dnya-futbolu/
LOCATION:ОМСК ім. В.Мельника
END:VEVENT
BEGIN:VEVENT
DTSTART;VALUE=DATE:20190828
DTEND;VALUE=DATE:20190829
DTSTAMP:20260421T170147
CREATED:20190722T054353Z
LAST-MODIFIED:20190722T054353Z
UID:12988-1566950400-1567036799@obcity.gov.ua
SUMMARY:Участь ФК «Обухів» у чемпіонаті Київської області з футболу
DESCRIPTION:
URL:https://obcity.gov.ua/event/uchast-fk-obukhiv-u-chempionati-kiivskoi-oblasti-z-futbolu-4/
LOCATION:ОМСК ім. В.Мельника
END:VEVENT
BEGIN:VEVENT
DTSTART;VALUE=DATE:20200628
DTEND;VALUE=DATE:20200629
DTSTAMP:20260421T170147
CREATED:20200526T052619Z
LAST-MODIFIED:20200526T052619Z
UID:19378-1593302400-1593388799@obcity.gov.ua
SUMMARY:День молоді. Молодь фест
DESCRIPTION:
URL:https://obcity.gov.ua/event/den-molodi-molod-fest-2/
LOCATION:ОМСК ім. В.Мельника
END:VEVENT
END:VCALENDAR