 
BEGIN:VCALENDAR
VERSION:2.0
PRODID:-//Обухівська міська рада - ECPv5.9.1//NONSGML v1.0//EN
CALSCALE:GREGORIAN
METHOD:PUBLISH
X-WR-CALNAME:Обухівська міська рада
X-ORIGINAL-URL:https://obcity.gov.ua
X-WR-CALDESC:Events for Обухівська міська рада
BEGIN:VTIMEZONE
TZID:Europe/Moscow
BEGIN:STANDARD
TZOFFSETFROM:+0300
TZOFFSETTO:+0300
TZNAME:MSK
DTSTART:20190101T000000
END:STANDARD
END:VTIMEZONE
BEGIN:VEVENT
DTSTART;TZID=Europe/Moscow:20191206T160000
DTEND;TZID=Europe/Moscow:20191206T160000
DTSTAMP:20260419T220046
CREATED:20191125T082108Z
LAST-MODIFIED:20191125T133538Z
UID:15493-1575648000-1575648000@obcity.gov.ua
SUMMARY:Святковий концерт до Дня місцевого самоврядування
DESCRIPTION:
URL:https://obcity.gov.ua/event/svyatkoviy-koncert-do-dnya-miscevogo-samovryaduvannya-2/
LOCATION:Міський будинок культури
END:VEVENT
END:VCALENDAR