 
BEGIN:VCALENDAR
VERSION:2.0
PRODID:-//Обухівська міська рада - ECPv5.9.1//NONSGML v1.0//EN
CALSCALE:GREGORIAN
METHOD:PUBLISH
X-WR-CALNAME:Обухівська міська рада
X-ORIGINAL-URL:https://obcity.gov.ua
X-WR-CALDESC:Events for Обухівська міська рада
BEGIN:VTIMEZONE
TZID:Europe/Kiev
BEGIN:DAYLIGHT
TZOFFSETFROM:+0200
TZOFFSETTO:+0300
TZNAME:EEST
DTSTART:20220327T010000
END:DAYLIGHT
BEGIN:STANDARD
TZOFFSETFROM:+0300
TZOFFSETTO:+0200
TZNAME:EET
DTSTART:20221030T010000
END:STANDARD
END:VTIMEZONE
BEGIN:VEVENT
DTSTART;TZID=Europe/Kiev:20220309T180000
DTEND;TZID=Europe/Kiev:20220309T180000
DTSTAMP:20260423T062319
CREATED:20220218T113000Z
LAST-MODIFIED:20220218T113000Z
UID:50854-1646848800-1646848800@obcity.gov.ua
SUMMARY:Вечір-концерт «Тарасове слово»
DESCRIPTION:
URL:https://obcity.gov.ua/event/vechir-koncert-tarasove-slovo-2/
LOCATION:м. Обухів\, мікрорайон Яблуневий\, 22
END:VEVENT
BEGIN:VEVENT
DTSTART;TZID=Europe/Kiev:20220318T160000
DTEND;TZID=Europe/Kiev:20220318T160000
DTSTAMP:20260423T062319
CREATED:20220218T113256Z
LAST-MODIFIED:20220218T113256Z
UID:50860-1647619200-1647619200@obcity.gov.ua
SUMMARY:Концерт для працівників ЖКГ «Дякуємо за комфорт»
DESCRIPTION:
URL:https://obcity.gov.ua/event/koncert-dlya-pracivnikiv-zhkg-dyakuiemo-za-komfort/
LOCATION:м. Обухів\, мікрорайон Яблуневий\, 22
END:VEVENT
END:VCALENDAR