 BEGIN:VCALENDAR
VERSION:2.0
PRODID:-//Обухівська міська рада - ECPv5.9.1//NONSGML v1.0//EN
CALSCALE:GREGORIAN
METHOD:PUBLISH
X-WR-CALNAME:Обухівська міська рада
X-ORIGINAL-URL:https://obcity.gov.ua
X-WR-CALDESC:Події за Обухівська міська рада
BEGIN:VTIMEZONE
TZID:Europe/Kiev
BEGIN:DAYLIGHT
TZOFFSETFROM:+0200
TZOFFSETTO:+0300
TZNAME:EEST
DTSTART:20220327T010000
END:DAYLIGHT
BEGIN:STANDARD
TZOFFSETFROM:+0300
TZOFFSETTO:+0200
TZNAME:EET
DTSTART:20221030T010000
END:STANDARD
END:VTIMEZONE
BEGIN:VEVENT
DTSTART;TZID=Europe/Kiev:20220310T100000
DTEND;TZID=Europe/Kiev:20220310T100000
DTSTAMP:20220227T222633
CREATED:20220223T064125Z
LAST-MODIFIED:20220223T064125Z
UID:51011-1646906400-1646906400@obcity.gov.ua
SUMMARY:Засідання Виконавчого комітету Обухівської міської ради
DESCRIPTION:
URL:https://obcity.gov.ua/event/zasidannya-vikonavchogo-komitetu-obukhivskoi-miskoi-radi-7/
LOCATION:Обухівська міська рада\, сесійна зала
END:VEVENT
END:VCALENDAR