 
BEGIN:VCALENDAR
VERSION:2.0
PRODID:-//Обухівська міська рада - ECPv5.9.1//NONSGML v1.0//EN
CALSCALE:GREGORIAN
METHOD:PUBLISH
X-WR-CALNAME:Обухівська міська рада
X-ORIGINAL-URL:https://obcity.gov.ua
X-WR-CALDESC:Events for Обухівська міська рада
BEGIN:VTIMEZONE
TZID:Europe/Moscow
BEGIN:STANDARD
TZOFFSETFROM:+0300
TZOFFSETTO:+0300
TZNAME:MSK
DTSTART:20190101T000000
END:STANDARD
END:VTIMEZONE
BEGIN:VEVENT
DTSTART;VALUE=DATE:20191012
DTEND;VALUE=DATE:20191013
DTSTAMP:20260421T155116
CREATED:20191002T171141Z
LAST-MODIFIED:20191002T171141Z
UID:14400-1570838400-1570924799@obcity.gov.ua
SUMMARY:Відкритий турнір міста з стрітболу
DESCRIPTION:
URL:https://obcity.gov.ua/event/vidkritiy-turnir-mista-z-stritbolu/
END:VEVENT
END:VCALENDAR