 
BEGIN:VCALENDAR
VERSION:2.0
PRODID:-//Обухівська міська рада - ECPv5.9.1//NONSGML v1.0//EN
CALSCALE:GREGORIAN
METHOD:PUBLISH
X-WR-CALNAME:Обухівська міська рада
X-ORIGINAL-URL:https://obcity.gov.ua
X-WR-CALDESC:Events for Обухівська міська рада
BEGIN:VTIMEZONE
TZID:Europe/Moscow
BEGIN:STANDARD
TZOFFSETFROM:+0300
TZOFFSETTO:+0300
TZNAME:MSK
DTSTART:20190101T000000
END:STANDARD
END:VTIMEZONE
BEGIN:VEVENT
DTSTART;VALUE=DATE:20190518
DTEND;VALUE=DATE:20190519
DTSTAMP:20260422T191014
CREATED:20190503T114646Z
LAST-MODIFIED:20190503T114646Z
UID:11505-1558137600-1558223999@obcity.gov.ua
SUMMARY:Відкритий Кубок міста Обухів з кікбоксингу
DESCRIPTION:
URL:https://obcity.gov.ua/event/vidkritiy-kubok-mista-obukhiv-z-kikboksingu/
LOCATION:Спортивний комплекс ККПК
END:VEVENT
END:VCALENDAR