 
BEGIN:VCALENDAR
VERSION:2.0
PRODID:-//Обухівська міська рада - ECPv5.9.1//NONSGML v1.0//EN
CALSCALE:GREGORIAN
METHOD:PUBLISH
X-WR-CALNAME:Обухівська міська рада
X-ORIGINAL-URL:https://obcity.gov.ua
X-WR-CALDESC:Events for Обухівська міська рада
BEGIN:VTIMEZONE
TZID:Europe/Moscow
BEGIN:STANDARD
TZOFFSETFROM:+0300
TZOFFSETTO:+0300
TZNAME:MSK
DTSTART:20190101T000000
END:STANDARD
END:VTIMEZONE
BEGIN:VEVENT
DTSTART;VALUE=DATE:20190519
DTEND;VALUE=DATE:20190520
DTSTAMP:20260422T104223
CREATED:20190503T114752Z
LAST-MODIFIED:20190503T114752Z
UID:11508-1558224000-1558310399@obcity.gov.ua
SUMMARY:Відкритий чемпіонат міста Обухів та Київської області з кікбоксингу
DESCRIPTION:
URL:https://obcity.gov.ua/event/vidkritiy-chempionat-mista-obukhiv-ta-kiivskoi-oblasti-z-kikboksingu/
LOCATION:Спортивний комплекс ККПК
END:VEVENT
END:VCALENDAR