 
BEGIN:VCALENDAR
VERSION:2.0
PRODID:-//Обухівська міська рада - ECPv5.9.1//NONSGML v1.0//EN
CALSCALE:GREGORIAN
METHOD:PUBLISH
X-WR-CALNAME:Обухівська міська рада
X-ORIGINAL-URL:https://obcity.gov.ua
X-WR-CALDESC:Events for Обухівська міська рада
BEGIN:VTIMEZONE
TZID:Europe/Moscow
BEGIN:STANDARD
TZOFFSETFROM:+0300
TZOFFSETTO:+0300
TZNAME:MSK
DTSTART:20200101T000000
END:STANDARD
END:VTIMEZONE
BEGIN:VEVENT
DTSTART;TZID=Europe/Moscow:20200122T110000
DTEND;TZID=Europe/Moscow:20200122T110000
DTSTAMP:20260425T063305
CREATED:20191221T075125Z
LAST-MODIFIED:20200122T090720Z
UID:16173-1579690800-1579690800@obcity.gov.ua
SUMMARY:Урочистий мітинг до відзначення Дня Соборності України з покладанням  квітів до пам'ятних місць борців за незалежність і територіальну цілісність України
DESCRIPTION:
URL:https://obcity.gov.ua/event/urochistiy-miting-do-vidznachennya-dnya-sobornosti-ukraini-z-pokladannyam-kvitiv-do-pamyatnikh-misc-borciv-za-nezalezhnist-i-teritorialnu-cilisnist-ukraini/
LOCATION:м.Обухів Площа Слави у центрі міста (вул.Чумацький Шлях\,1)\, Алея пам`яті Героїв Небесної Сотні (вул.Миру)
END:VEVENT
END:VCALENDAR