 
BEGIN:VCALENDAR
VERSION:2.0
PRODID:-//Обухівська міська рада - ECPv5.9.1//NONSGML v1.0//EN
CALSCALE:GREGORIAN
METHOD:PUBLISH
X-WR-CALNAME:Обухівська міська рада
X-ORIGINAL-URL:https://obcity.gov.ua
X-WR-CALDESC:Events for Обухівська міська рада
BEGIN:VTIMEZONE
TZID:Europe/Moscow
BEGIN:STANDARD
TZOFFSETFROM:+0300
TZOFFSETTO:+0300
TZNAME:MSK
DTSTART:20190101T000000
END:STANDARD
END:VTIMEZONE
BEGIN:VEVENT
DTSTART;VALUE=DATE:20190804
DTEND;VALUE=DATE:20190805
DTSTAMP:20260422T032816
CREATED:20190722T054326Z
LAST-MODIFIED:20190722T054326Z
UID:12985-1564876800-1564963199@obcity.gov.ua
SUMMARY:Участь ФК «Обухів» у чемпіонаті Київської області з футболу
DESCRIPTION:
URL:https://obcity.gov.ua/event/uchast-fk-obukhiv-u-chempionati-kiivskoi-oblasti-z-futbolu-3/
LOCATION:ОМСК ім. В.Мельника
END:VEVENT
END:VCALENDAR