 
BEGIN:VCALENDAR
VERSION:2.0
PRODID:-//Обухівська міська рада - ECPv5.9.1//NONSGML v1.0//EN
CALSCALE:GREGORIAN
METHOD:PUBLISH
X-WR-CALNAME:Обухівська міська рада
X-ORIGINAL-URL:https://obcity.gov.ua
X-WR-CALDESC:Events for Обухівська міська рада
BEGIN:VTIMEZONE
TZID:Europe/Moscow
BEGIN:STANDARD
TZOFFSETFROM:+0300
TZOFFSETTO:+0300
TZNAME:MSK
DTSTART:20190101T000000
END:STANDARD
END:VTIMEZONE
BEGIN:VEVENT
DTSTART;VALUE=DATE:20190529
DTEND;VALUE=DATE:20190530
DTSTAMP:20260422T040245
CREATED:20190503T114348Z
LAST-MODIFIED:20190529T085844Z
UID:11499-1559088000-1559174399@obcity.gov.ua
SUMMARY:Свято Останнього дзвоника
DESCRIPTION:
URL:https://obcity.gov.ua/event/svyato-ostannogo-dzvonika/
END:VEVENT
END:VCALENDAR