 
BEGIN:VCALENDAR
VERSION:2.0
PRODID:-//Обухівська міська рада - ECPv5.9.1//NONSGML v1.0//EN
CALSCALE:GREGORIAN
METHOD:PUBLISH
X-WR-CALNAME:Обухівська міська рада
X-ORIGINAL-URL:https://obcity.gov.ua
X-WR-CALDESC:Events for Обухівська міська рада
BEGIN:VTIMEZONE
TZID:Europe/Moscow
BEGIN:STANDARD
TZOFFSETFROM:+0300
TZOFFSETTO:+0300
TZNAME:MSK
DTSTART:20190101T000000
END:STANDARD
END:VTIMEZONE
BEGIN:VEVENT
DTSTART;TZID=Europe/Moscow:20191219T170000
DTEND;TZID=Europe/Moscow:20191219T170000
DTSTAMP:20260420T064608
CREATED:20191125T082852Z
LAST-MODIFIED:20191218T125707Z
UID:15508-1576774800-1576774800@obcity.gov.ua
SUMMARY:Свято для дітей “До нас їде Святий Миколай”
DESCRIPTION:
URL:https://obcity.gov.ua/event/svyato-dlya-ditey-do-nas-ide-svyatiy-mikolay-2/
LOCATION:м. Обухів\, мікрорайон Яблуневий\,22\, Міський будинок культури
END:VEVENT
END:VCALENDAR