 
BEGIN:VCALENDAR
VERSION:2.0
PRODID:-//Обухівська міська рада - ECPv5.9.1//NONSGML v1.0//EN
CALSCALE:GREGORIAN
METHOD:PUBLISH
X-WR-CALNAME:Обухівська міська рада
X-ORIGINAL-URL:https://obcity.gov.ua
X-WR-CALDESC:Events for Обухівська міська рада
BEGIN:VTIMEZONE
TZID:Europe/Moscow
BEGIN:STANDARD
TZOFFSETFROM:+0300
TZOFFSETTO:+0300
TZNAME:MSK
DTSTART:20190101T000000
END:STANDARD
END:VTIMEZONE
BEGIN:VEVENT
DTSTART;TZID=Europe/Moscow:20190531T163000
DTEND;TZID=Europe/Moscow:20190531T163000
DTSTAMP:20260422T021944
CREATED:20190527T103617Z
LAST-MODIFIED:20190530T051308Z
UID:11974-1559320200-1559320200@obcity.gov.ua
SUMMARY:Святкова концертно-розважальна ігрова програма до Міжнародного дня захисту дітей
DESCRIPTION:
URL:https://obcity.gov.ua/event/svyatkova-koncertno-rozvazhalna-igrova-programa-do-mizhnarodnogo-dnya-zakhistu-ditey/
LOCATION:Площа перед РЦКД
END:VEVENT
END:VCALENDAR