 
BEGIN:VCALENDAR
VERSION:2.0
PRODID:-//Обухівська міська рада - ECPv5.9.1//NONSGML v1.0//EN
CALSCALE:GREGORIAN
METHOD:PUBLISH
X-WR-CALNAME:Обухівська міська рада
X-ORIGINAL-URL:https://obcity.gov.ua
X-WR-CALDESC:Events for Обухівська міська рада
BEGIN:VTIMEZONE
TZID:Europe/Moscow
BEGIN:STANDARD
TZOFFSETFROM:+0300
TZOFFSETTO:+0300
TZNAME:MSK
DTSTART:20190101T000000
END:STANDARD
END:VTIMEZONE
BEGIN:VEVENT
DTSTART;VALUE=DATE:20191207
DTEND;VALUE=DATE:20191208
DTSTAMP:20260419T201745
CREATED:20191125T133953Z
LAST-MODIFIED:20191125T133953Z
UID:15593-1575676800-1575763199@obcity.gov.ua
SUMMARY:Першість міста Обухова з вільної боротьби
DESCRIPTION:
URL:https://obcity.gov.ua/event/pershist-mista-obukhova-z-vilnoi-borotbi/
LOCATION:СКК
END:VEVENT
END:VCALENDAR