 
BEGIN:VCALENDAR
VERSION:2.0
PRODID:-//Обухівська міська рада - ECPv5.9.1//NONSGML v1.0//EN
CALSCALE:GREGORIAN
METHOD:PUBLISH
X-WR-CALNAME:Обухівська міська рада
X-ORIGINAL-URL:https://obcity.gov.ua
X-WR-CALDESC:Events for Обухівська міська рада
BEGIN:VTIMEZONE
TZID:Europe/Moscow
BEGIN:STANDARD
TZOFFSETFROM:+0300
TZOFFSETTO:+0300
TZNAME:MSK
DTSTART:20190101T000000
END:STANDARD
END:VTIMEZONE
BEGIN:VEVENT
DTSTART;TZID=Europe/Moscow:20191013T170000
DTEND;TZID=Europe/Moscow:20191013T170000
DTSTAMP:20260421T142944
CREATED:20191002T170740Z
LAST-MODIFIED:20191002T170740Z
UID:14392-1570986000-1570986000@obcity.gov.ua
SUMMARY:Обласний фестиваль військово-патріотичної пісні «Душа\, обпалена війною»
DESCRIPTION:
URL:https://obcity.gov.ua/event/oblasniy-festival-viyskovo-patriotichnoi-pisni-dusha-obpalena-viynoyu/
END:VEVENT
END:VCALENDAR