 
BEGIN:VCALENDAR
VERSION:2.0
PRODID:-//Обухівська міська рада - ECPv5.9.1//NONSGML v1.0//EN
CALSCALE:GREGORIAN
METHOD:PUBLISH
X-WR-CALNAME:Обухівська міська рада
X-ORIGINAL-URL:https://obcity.gov.ua
X-WR-CALDESC:Events for Обухівська міська рада
BEGIN:VTIMEZONE
TZID:Europe/Moscow
BEGIN:STANDARD
TZOFFSETFROM:+0300
TZOFFSETTO:+0300
TZNAME:MSK
DTSTART:20190101T000000
END:STANDARD
END:VTIMEZONE
BEGIN:VEVENT
DTSTART;TZID=Europe/Moscow:20191220T180000
DTEND;TZID=Europe/Moscow:20191220T180000
DTSTAMP:20260420T033551
CREATED:20191125T082956Z
LAST-MODIFIED:20191125T082956Z
UID:15510-1576864800-1576864800@obcity.gov.ua
SUMMARY:Новорічний звітний концерт із виставкою творчих робіт учнів відділу образотворчого мистецтва ДШМ м. Обухова
DESCRIPTION:
URL:https://obcity.gov.ua/event/novorichniy-zvitniy-koncert-iz-vistavkoyu-tvorchikh-robit-uchniv-viddilu-obrazotvorchogo-mistectva-dshm-m-obukhova-2/
LOCATION:Обухівський РЦКіД
END:VEVENT
END:VCALENDAR