 
BEGIN:VCALENDAR
VERSION:2.0
PRODID:-//Обухівська міська рада - ECPv5.9.1//NONSGML v1.0//EN
CALSCALE:GREGORIAN
METHOD:PUBLISH
X-WR-CALNAME:Обухівська міська рада
X-ORIGINAL-URL:https://obcity.gov.ua
X-WR-CALDESC:Events for Обухівська міська рада
BEGIN:VTIMEZONE
TZID:Europe/Moscow
BEGIN:STANDARD
TZOFFSETFROM:+0300
TZOFFSETTO:+0300
TZNAME:MSK
DTSTART:20190101T000000
END:STANDARD
END:VTIMEZONE
BEGIN:VEVENT
DTSTART;TZID=Europe/Moscow:20191227T083000
DTEND;TZID=Europe/Moscow:20191227T153000
DTSTAMP:20260420T101722
CREATED:20191218T134230Z
LAST-MODIFIED:20191218T134230Z
UID:16102-1577435400-1577460600@obcity.gov.ua
SUMMARY:Новорічні казки та розважальні програми для дітей
DESCRIPTION:
URL:https://obcity.gov.ua/event/novorichni-kazki-ta-rozvazhalni-programi-dlya-ditey-4/
LOCATION:РЦКіД
END:VEVENT
END:VCALENDAR