 
BEGIN:VCALENDAR
VERSION:2.0
PRODID:-//Обухівська міська рада - ECPv5.9.1//NONSGML v1.0//EN
CALSCALE:GREGORIAN
METHOD:PUBLISH
X-WR-CALNAME:Обухівська міська рада
X-ORIGINAL-URL:https://obcity.gov.ua
X-WR-CALDESC:Events for Обухівська міська рада
BEGIN:VTIMEZONE
TZID:Europe/Moscow
BEGIN:STANDARD
TZOFFSETFROM:+0300
TZOFFSETTO:+0300
TZNAME:MSK
DTSTART:20190101T000000
END:STANDARD
END:VTIMEZONE
BEGIN:VEVENT
DTSTART;TZID=Europe/Moscow:20191219T180000
DTEND;TZID=Europe/Moscow:20191219T180000
DTSTAMP:20260420T051106
CREATED:20191125T082746Z
LAST-MODIFIED:20191125T082746Z
UID:15505-1576778400-1576778400@obcity.gov.ua
SUMMARY:Новорчіне привітання Святого Миколая
DESCRIPTION:
URL:https://obcity.gov.ua/event/novorchine-privitannya-svyatogo-mikolaya/
LOCATION:Територія біля РЦКіД\,головна ялинка міста Обухів
END:VEVENT
END:VCALENDAR