 
BEGIN:VCALENDAR
VERSION:2.0
PRODID:-//Обухівська міська рада - ECPv5.9.1//NONSGML v1.0//EN
CALSCALE:GREGORIAN
METHOD:PUBLISH
X-WR-CALNAME:Обухівська міська рада
X-ORIGINAL-URL:https://obcity.gov.ua
X-WR-CALDESC:Events for Обухівська міська рада
BEGIN:VTIMEZONE
TZID:Europe/Moscow
BEGIN:STANDARD
TZOFFSETFROM:+0300
TZOFFSETTO:+0300
TZNAME:MSK
DTSTART:20190101T000000
END:STANDARD
END:VTIMEZONE
BEGIN:VEVENT
DTSTART;TZID=Europe/Moscow:20191227T200000
DTEND;TZID=Europe/Moscow:20191227T200000
DTSTAMP:20260422T172858
CREATED:20191125T133827Z
LAST-MODIFIED:20191125T133827Z
UID:15589-1577476800-1577476800@obcity.gov.ua
SUMMARY:Молода людина року
DESCRIPTION:
URL:https://obcity.gov.ua/event/moloda-lyudina-roku-2/
LOCATION:РЦКіД
END:VEVENT
END:VCALENDAR