 
BEGIN:VCALENDAR
VERSION:2.0
PRODID:-//Обухівська міська рада - ECPv5.9.1//NONSGML v1.0//EN
CALSCALE:GREGORIAN
METHOD:PUBLISH
X-WR-CALNAME:Обухівська міська рада
X-ORIGINAL-URL:https://obcity.gov.ua
X-WR-CALDESC:Events for Обухівська міська рада
BEGIN:VTIMEZONE
TZID:Europe/Moscow
BEGIN:STANDARD
TZOFFSETFROM:+0300
TZOFFSETTO:+0300
TZNAME:MSK
DTSTART:20190101T000000
END:STANDARD
END:VTIMEZONE
BEGIN:VEVENT
DTSTART;VALUE=DATE:20190516
DTEND;VALUE=DATE:20190517
DTSTAMP:20260424T125729
CREATED:20190423T060642Z
LAST-MODIFIED:20190513T061213Z
UID:11349-1557964800-1558051199@obcity.gov.ua
SUMMARY:Культурно-мистецький захід до Дня Матері
DESCRIPTION:
URL:https://obcity.gov.ua/event/kulturno-misteckiy-zakhid-do-dnya-materi/
LOCATION:Площа перед РЦКіД
END:VEVENT
END:VCALENDAR