 
BEGIN:VCALENDAR
VERSION:2.0
PRODID:-//Обухівська міська рада - ECPv5.9.1//NONSGML v1.0//EN
CALSCALE:GREGORIAN
METHOD:PUBLISH
X-WR-CALNAME:Обухівська міська рада
X-ORIGINAL-URL:https://obcity.gov.ua
X-WR-CALDESC:Events for Обухівська міська рада
BEGIN:VTIMEZONE
TZID:Europe/Moscow
BEGIN:STANDARD
TZOFFSETFROM:+0300
TZOFFSETTO:+0300
TZNAME:MSK
DTSTART:20190101T000000
END:STANDARD
END:VTIMEZONE
BEGIN:VEVENT
DTSTART;TZID=Europe/Moscow:20190705T180000
DTEND;TZID=Europe/Moscow:20190705T180000
DTSTAMP:20260422T003651
CREATED:20190618T075121Z
LAST-MODIFIED:20190618T075121Z
UID:12392-1562349600-1562349600@obcity.gov.ua
SUMMARY:Концертно - розважальна програма «Ой пливи\, віночку\, за водою»
DESCRIPTION:
URL:https://obcity.gov.ua/event/koncertno-rozvazhalna-programa-oy-plivi-vinochku-za-vodoyu/
LOCATION:м.Обухів\, с Ленди\, біля ставу
END:VEVENT
END:VCALENDAR