 
BEGIN:VCALENDAR
VERSION:2.0
PRODID:-//Обухівська міська рада - ECPv5.9.1//NONSGML v1.0//EN
CALSCALE:GREGORIAN
METHOD:PUBLISH
X-WR-CALNAME:Обухівська міська рада
X-ORIGINAL-URL:https://obcity.gov.ua
X-WR-CALDESC:Events for Обухівська міська рада
BEGIN:VTIMEZONE
TZID:Europe/Moscow
BEGIN:STANDARD
TZOFFSETFROM:+0300
TZOFFSETTO:+0300
TZNAME:MSK
DTSTART:20190101T000000
END:STANDARD
END:VTIMEZONE
BEGIN:VEVENT
DTSTART;TZID=Europe/Moscow:20190824T180000
DTEND;TZID=Europe/Moscow:20190824T180000
DTSTAMP:20260423T115145
CREATED:20190722T053956Z
LAST-MODIFIED:20190812T111301Z
UID:12973-1566669600-1566669600@obcity.gov.ua
SUMMARY:Концертна програма «Суверенній Україні слава нині і вовік!»
DESCRIPTION:
URL:https://obcity.gov.ua/event/koncertna-programa-suverenniy-ukraini-slava-nini-i-vovik/
LOCATION:Площа перед РЦКД
END:VEVENT
END:VCALENDAR