 
BEGIN:VCALENDAR
VERSION:2.0
PRODID:-//Обухівська міська рада - ECPv5.9.1//NONSGML v1.0//EN
CALSCALE:GREGORIAN
METHOD:PUBLISH
X-WR-CALNAME:Обухівська міська рада
X-ORIGINAL-URL:https://obcity.gov.ua
X-WR-CALDESC:Events for Обухівська міська рада
BEGIN:VTIMEZONE
TZID:Europe/Moscow
BEGIN:STANDARD
TZOFFSETFROM:+0300
TZOFFSETTO:+0300
TZNAME:MSK
DTSTART:20200101T000000
END:STANDARD
END:VTIMEZONE
BEGIN:VEVENT
DTSTART;TZID=Europe/Moscow:20200118T160000
DTEND;TZID=Europe/Moscow:20200118T160000
DTSTAMP:20260425T031225
CREATED:20191221T074843Z
LAST-MODIFIED:20191221T074843Z
UID:16168-1579363200-1579363200@obcity.gov.ua
SUMMARY:Концерт релігійних громад “Свято Водохреща”
DESCRIPTION:
URL:https://obcity.gov.ua/event/koncert-religiynikh-gromad-svyato-vodokhreshha-2/
LOCATION:м. Обухів\, мікрорайон Яблуневий\,22\, Міський будинок культури
END:VEVENT
END:VCALENDAR