 
BEGIN:VCALENDAR
VERSION:2.0
PRODID:-//Обухівська міська рада - ECPv5.9.1//NONSGML v1.0//EN
CALSCALE:GREGORIAN
METHOD:PUBLISH
X-WR-CALNAME:Обухівська міська рада
X-ORIGINAL-URL:https://obcity.gov.ua
X-WR-CALDESC:Events for Обухівська міська рада
BEGIN:VTIMEZONE
TZID:Europe/Moscow
BEGIN:STANDARD
TZOFFSETFROM:+0300
TZOFFSETTO:+0300
TZNAME:MSK
DTSTART:20190101T000000
END:STANDARD
END:VTIMEZONE
BEGIN:VEVENT
DTSTART;TZID=Europe/Moscow:20190628T180000
DTEND;TZID=Europe/Moscow:20190628T180000
DTSTAMP:20260421T201748
CREATED:20190527T104301Z
LAST-MODIFIED:20190527T104301Z
UID:11984-1561744800-1561744800@obcity.gov.ua
SUMMARY:Концерт кращих самодіяльних колективів міста
DESCRIPTION:
URL:https://obcity.gov.ua/event/koncert-krashhikh-samodiyalnikh-kolektiviv-mista-2/
LOCATION:Площа перед РЦКД
END:VEVENT
END:VCALENDAR