 
BEGIN:VCALENDAR
VERSION:2.0
PRODID:-//Обухівська міська рада - ECPv5.9.1//NONSGML v1.0//EN
CALSCALE:GREGORIAN
METHOD:PUBLISH
X-WR-CALNAME:Обухівська міська рада
X-ORIGINAL-URL:https://obcity.gov.ua
X-WR-CALDESC:Events for Обухівська міська рада
BEGIN:VTIMEZONE
TZID:Europe/Moscow
BEGIN:STANDARD
TZOFFSETFROM:+0300
TZOFFSETTO:+0300
TZNAME:MSK
DTSTART:20190101T000000
END:STANDARD
END:VTIMEZONE
BEGIN:VEVENT
DTSTART;TZID=Europe/Moscow:20191225T180000
DTEND;TZID=Europe/Moscow:20191225T180000
DTSTAMP:20260420T065107
CREATED:20191125T083053Z
LAST-MODIFIED:20191125T083053Z
UID:15512-1577296800-1577296800@obcity.gov.ua
SUMMARY:Католицький Новий рік. Концерт християнської пісні
DESCRIPTION:
URL:https://obcity.gov.ua/event/katolickiy-noviy-rik-koncert-khristiyanskoi-pisni/
LOCATION:м. Обухів\, мікрорайон Яблуневий\,22\, Міський будинок культури
END:VEVENT
END:VCALENDAR