 
BEGIN:VCALENDAR
VERSION:2.0
PRODID:-//Обухівська міська рада - ECPv5.9.1//NONSGML v1.0//EN
CALSCALE:GREGORIAN
METHOD:PUBLISH
X-WR-CALNAME:Обухівська міська рада
X-ORIGINAL-URL:https://obcity.gov.ua
X-WR-CALDESC:Events for Обухівська міська рада
BEGIN:VTIMEZONE
TZID:Europe/Moscow
BEGIN:STANDARD
TZOFFSETFROM:+0300
TZOFFSETTO:+0300
TZNAME:MSK
DTSTART:20190101T000000
END:STANDARD
END:VTIMEZONE
BEGIN:VEVENT
DTSTART;TZID=Europe/Moscow:20191206T140000
DTEND;TZID=Europe/Moscow:20191206T140000
DTSTAMP:20260419T171852
CREATED:20191125T081848Z
LAST-MODIFIED:20191125T081930Z
UID:15490-1575640800-1575640800@obcity.gov.ua
SUMMARY:До Дня Збройних сил України: Святковий концерт за участю народного хору “Світанок”
DESCRIPTION:
URL:https://obcity.gov.ua/event/do-dnya-zbroynikh-sil-ukraini-svyatkoviy-koncert-za-uchastyu-narodnogo-khoru-svitanok/
LOCATION:Актова зала Обухівського УВП УТОСм.Обухів
END:VEVENT
END:VCALENDAR