 
BEGIN:VCALENDAR
VERSION:2.0
PRODID:-//Обухівська міська рада - ECPv5.9.1//NONSGML v1.0//EN
CALSCALE:GREGORIAN
METHOD:PUBLISH
X-WR-CALNAME:Обухівська міська рада
X-ORIGINAL-URL:https://obcity.gov.ua
X-WR-CALDESC:Events for Обухівська міська рада
BEGIN:VTIMEZONE
TZID:Europe/Moscow
BEGIN:STANDARD
TZOFFSETFROM:+0300
TZOFFSETTO:+0300
TZNAME:MSK
DTSTART:20190101T000000
END:STANDARD
END:VTIMEZONE
BEGIN:VEVENT
DTSTART;TZID=Europe/Moscow:20191214T100000
DTEND;TZID=Europe/Moscow:20191214T100000
DTSTAMP:20260420T033429
CREATED:20191125T082538Z
LAST-MODIFIED:20191125T082538Z
UID:15500-1576317600-1576317600@obcity.gov.ua
SUMMARY:До Дня вшанування ліквідаторів-учасників Чорнобильської АЄС: Покладання квітів
DESCRIPTION:
URL:https://obcity.gov.ua/event/do-dnya-vshanuvannya-likvidatoriv-uchasnikiv-chornobilskoi-aies-pokladannya-kvitiv/
LOCATION:м.Обухів\, Майданчик поблизу пожежної частини ПАТ «Київський КПК
END:VEVENT
END:VCALENDAR