 
BEGIN:VCALENDAR
VERSION:2.0
PRODID:-//Обухівська міська рада - ECPv5.9.1//NONSGML v1.0//EN
CALSCALE:GREGORIAN
METHOD:PUBLISH
X-WR-CALNAME:Обухівська міська рада
X-ORIGINAL-URL:https://obcity.gov.ua
X-WR-CALDESC:Events for Обухівська міська рада
BEGIN:VTIMEZONE
TZID:Europe/Moscow
BEGIN:STANDARD
TZOFFSETFROM:+0300
TZOFFSETTO:+0300
TZNAME:MSK
DTSTART:20190101T000000
END:STANDARD
END:VTIMEZONE
BEGIN:VEVENT
DTSTART;TZID=Europe/Moscow:20191213T180000
DTEND;TZID=Europe/Moscow:20191213T180000
DTSTAMP:20260419T235436
CREATED:20191125T082244Z
LAST-MODIFIED:20191125T082244Z
UID:15496-1576260000-1576260000@obcity.gov.ua
SUMMARY:День святого Андрія Первозванного - “Андріївські вечорниці на Яблуневому”
DESCRIPTION:
URL:https://obcity.gov.ua/event/den-svyatogo-andriya-pervozvannogo-andriivski-vechornici-na-yablunevomu/
LOCATION:м. Обухів\, мікрорайон Яблуневий\,22\, Міський будинок культури
END:VEVENT
END:VCALENDAR